BEGIN:VCALENDAR
VERSION:2.0
PRODID:-//Base Scout Rosa dei Venti//NONSGML kigkonsult.se iCalcreator 2.30
 .10//
CALSCALE:GREGORIAN
METHOD:PUBLISH
UID:9c63f52a-e04c-4d5a-9c0b-9359b1782ce9
X-WR-CALNAME:iCagenda
X-WR-CALDESC:Event Management Extension for Joomla!
X-WR-RELCALID:3E26604A-50F4-4449-8B3E-E4F4932D05B5
X-WR-TIMEZONE:Europe/Rome
BEGIN:VTIMEZONE
TZID:Europe/Rome
BEGIN:STANDARD
TZNAME:CET
DTSTART:20251026T030000
TZOFFSETFROM:+0200
TZOFFSETTO:+0100
RDATE:20261025T030000
RDATE:20271031T030000
END:STANDARD
BEGIN:DAYLIGHT
TZNAME:CEST
DTSTART:20260329T020000
TZOFFSETFROM:+0100
TZOFFSETTO:+0200
RDATE:20270328T020000
END:DAYLIGHT
END:VTIMEZONE
BEGIN:VEVENT
UID:9fbc06e1-199d-41c6-9bef-8a77d279ea72
DTSTAMP:20260421T094836Z
CATEGORIES:Campo Scout Confermato
CLASS:PUBLIC
DESCRIPTION:
DTSTART:20260613T060000Z
DTEND:20260614T153100Z
GEO:00;0
LOCATION:
ORGANIZER:
SEQUENCE:1
SUMMARY:Assoraider Statte
TRANSP:OPAQUE
URL:https://basescoutrosadeiventi.it/it/calendario/89-assoraider-statte-2.h
 tml
END:VEVENT
END:VCALENDAR
